BEGIN:VCALENDAR
VERSION:2.0
PRODID:-//Quileute Tribe - ECPv6.15.20//NONSGML v1.0//EN
CALSCALE:GREGORIAN
METHOD:PUBLISH
X-WR-CALNAME:Quileute Tribe
X-ORIGINAL-URL:https://quileutetribe.com
X-WR-CALDESC:Events for Quileute Tribe
REFRESH-INTERVAL;VALUE=DURATION:PT1H
X-Robots-Tag:noindex
X-PUBLISHED-TTL:PT1H
BEGIN:VTIMEZONE
TZID:America/Los_Angeles
BEGIN:DAYLIGHT
TZOFFSETFROM:-0800
TZOFFSETTO:-0700
TZNAME:PDT
DTSTART:20250309T100000
END:DAYLIGHT
BEGIN:STANDARD
TZOFFSETFROM:-0700
TZOFFSETTO:-0800
TZNAME:PST
DTSTART:20251102T090000
END:STANDARD
BEGIN:DAYLIGHT
TZOFFSETFROM:-0800
TZOFFSETTO:-0700
TZNAME:PDT
DTSTART:20260308T100000
END:DAYLIGHT
BEGIN:STANDARD
TZOFFSETFROM:-0700
TZOFFSETTO:-0800
TZNAME:PST
DTSTART:20261101T090000
END:STANDARD
BEGIN:DAYLIGHT
TZOFFSETFROM:-0800
TZOFFSETTO:-0700
TZNAME:PDT
DTSTART:20270314T100000
END:DAYLIGHT
BEGIN:STANDARD
TZOFFSETFROM:-0700
TZOFFSETTO:-0800
TZNAME:PST
DTSTART:20271107T090000
END:STANDARD
END:VTIMEZONE
BEGIN:VEVENT
DTSTART;TZID=America/Los_Angeles:20260420T120000
DTEND;TZID=America/Los_Angeles:20260420T180000
DTSTAMP:20260420T035320
CREATED:20260323T181357Z
LAST-MODIFIED:20260323T181357Z
UID:24521-1776686400-1776708000@quileutetribe.com
SUMMARY:Basket Weaving
DESCRIPTION:Basket Weaving\, shawl making and beading in Akalat classroom.
URL:https://quileutetribe.com/event/basket-weaving-4/
LOCATION:Quileute Akalat Center
ATTACH;FMTTYPE=image/jpeg:https://quileutetribe.com/wp-content/uploads/2026/03/Weaving-class-April-6-20-scaled.jpg
END:VEVENT
BEGIN:VEVENT
DTSTART;TZID=America/Los_Angeles:20260420T170000
DTEND;TZID=America/Los_Angeles:20260420T210000
DTSTAMP:20260420T035320
CREATED:20260323T182248Z
LAST-MODIFIED:20260323T182248Z
UID:24528-1776704400-1776718800@quileutetribe.com
SUMMARY:Open Gym
DESCRIPTION:Open Gym
URL:https://quileutetribe.com/event/open-gym-41/
LOCATION:Quileute Akalat Center
ORGANIZER;CN="Quileute Events":MAILTO:events@quileutenation.org
END:VEVENT
END:VCALENDAR